BEGIN:VCALENDAR
VERSION:2.0
PRODID:-//jEvents 2.0 for Joomla//EN
CALSCALE:GREGORIAN
METHOD:PUBLISH
BEGIN:VEVENT
UID:2a5e6a0b410d27ff8cb538844e688c78
CATEGORIES:Youth
SUMMARY:Chosen Generation
DESCRIPTION;ENCODING=QUOTED-PRINTABLE:
DTSTAMP:20260420T030827Z
DTSTART:20180216T190000Z
SEQUENCE:0
RRULE:FREQ=MONTHLY;UNTIL=20191221T000000Z;INTERVAL=1;BYDAY=+3FR
EXDATE:20180615T190000Z,20181019T190000Z,20191018T190000Z,20190920T190000Z
TRANSP:OPAQUE
END:VEVENT
END:VCALENDAR