BEGIN:VCALENDAR
VERSION:2.0
PRODID:-//jEvents 2.0 for Joomla//EN
CALSCALE:GREGORIAN
METHOD:PUBLISH
BEGIN:VEVENT
UID:ac9c14c17ed5a5fbcb6e9f44b4358410
CATEGORIES:Singles
SUMMARY:Singles Fellowship
DESCRIPTION;ENCODING=QUOTED-PRINTABLE:
DTSTAMP:20260424T061811Z
DTSTART:20180203T180000Z
DTEND:20180203T210000Z
SEQUENCE:0
RRULE:FREQ=MONTHLY;UNTIL=20191208T000000Z;INTERVAL=1;BYDAY=+1SA
EXDATE:20191207T180000Z,20191005T180000Z,20190706T180000Z
TRANSP:OPAQUE
END:VEVENT
END:VCALENDAR