BEGIN:VCALENDAR
VERSION:2.0
PRODID:-//jEvents 2.0 for Joomla//EN
CALSCALE:GREGORIAN
METHOD:PUBLISH
BEGIN:VEVENT
UID:3690a302484218184b3ace7292829ca7
CATEGORIES:Default Category
SUMMARY:VOD Choir Rehearsal
DESCRIPTION;ENCODING=QUOTED-PRINTABLE:
DTSTAMP:20260424T125833Z
DTSTART:20180104T190000Z
SEQUENCE:0
RRULE:FREQ=WEEKLY;UNTIL=20180406T000000Z;INTERVAL=1;BYDAY=TH
TRANSP:OPAQUE
END:VEVENT
END:VCALENDAR