BEGIN:VCALENDAR
VERSION:2.0
PRODID:-//jEvents 2.0 for Joomla//EN
CALSCALE:GREGORIAN
METHOD:PUBLISH
BEGIN:VEVENT
UID:0d4636c8720443c3cde84567da5acf69
CATEGORIES:Default Category
SUMMARY:New Members Class
DESCRIPTION;ENCODING=QUOTED-PRINTABLE:
DTSTAMP:20260424T163032Z
DTSTART:20180102T180000Z
DTEND:20180102T200000Z
SEQUENCE:0
RRULE:FREQ=WEEKLY;UNTIL=20181226T000000Z;INTERVAL=1;BYDAY=TU
TRANSP:OPAQUE
END:VEVENT
END:VCALENDAR