BEGIN:VCALENDAR
VERSION:2.0
PRODID:-//jEvents 2.0 for Joomla//EN
CALSCALE:GREGORIAN
METHOD:PUBLISH
BEGIN:VEVENT
UID:b72160bb4a3ade3ec0274409bd42f202
CATEGORIES:Default Category
SUMMARY:Basketball Game
DESCRIPTION;ENCODING=QUOTED-PRINTABLE:
DTSTAMP:20260424T162933Z
DTSTART:20180101T190000Z
DTEND:20180101T220000Z
SEQUENCE:0
RRULE:FREQ=WEEKLY;UNTIL=20190101T000000Z;INTERVAL=1;BYDAY=MO,TH
TRANSP:OPAQUE
END:VEVENT
END:VCALENDAR