BEGIN:VCALENDAR
VERSION:2.0
PRODID:-//jEvents 2.0 for Joomla//EN
CALSCALE:GREGORIAN
METHOD:PUBLISH
BEGIN:VEVENT
UID:8039bfaef6447affb44d46ff38606ad6
CATEGORIES:Default Category
SUMMARY:Comfort Ministry
DESCRIPTION;ENCODING=QUOTED-PRINTABLE:
DTSTAMP:20260421T054156Z
DTSTART:20260228T130000Z
DTEND:20260228T150000Z
SEQUENCE:0
RRULE:FREQ=MONTHLY;UNTIL=20270228T000000Z;INTERVAL=1;BYDAY=+4SA
TRANSP:OPAQUE
END:VEVENT
END:VCALENDAR