BEGIN:VCALENDAR
VERSION:2.0
PRODID:-//jEvents 2.0 for Joomla//EN
CALSCALE:GREGORIAN
METHOD:PUBLISH
BEGIN:VEVENT
UID:7f3e92260c8feb4897a260cef2732de9
CATEGORIES:Default Category
SUMMARY:Fit & Equip
DESCRIPTION;ENCODING=QUOTED-PRINTABLE:
DTSTAMP:20260419T170431Z
DTSTART:20201201T180000Z
DTEND:20201201T193000Z
SEQUENCE:0
RRULE:FREQ=WEEKLY;UNTIL=20201230T000000Z;INTERVAL=1;BYDAY=TU
TRANSP:OPAQUE
END:VEVENT
END:VCALENDAR