BEGIN:VCALENDAR
VERSION:2.0
PRODID:-//jEvents 2.0 for Joomla//EN
CALSCALE:GREGORIAN
METHOD:PUBLISH
BEGIN:VEVENT
UID:0d49c147d3e59bb3377824b50d6df045
CATEGORIES:Default Category
SUMMARY:Early Morning Prayer
DESCRIPTION;ENCODING=QUOTED-PRINTABLE:
DTSTAMP:20260422T143306Z
DTSTART:20191211T060000Z
DTEND:20191211T070000Z
SEQUENCE:0
RRULE:FREQ=WEEKLY;UNTIL=20191226T000000Z;INTERVAL=1;BYDAY=WE
TRANSP:OPAQUE
END:VEVENT
END:VCALENDAR