BEGIN:VCALENDAR
VERSION:2.0
PRODID:-//jEvents 2.0 for Joomla//EN
CALSCALE:GREGORIAN
METHOD:PUBLISH
BEGIN:VEVENT
UID:efe836d6875a320d1115a0f4ef84dc23
CATEGORIES:Default Category
SUMMARY:Breaking the Bonds
DESCRIPTION;ENCODING=QUOTED-PRINTABLE:
DTSTAMP:20260424T163109Z
DTSTART:20190523T180000Z
DTEND:20190523T193000Z
SEQUENCE:0
RRULE:FREQ=MONTHLY;UNTIL=20201225T000000Z;INTERVAL=1;BYDAY=+4TH
TRANSP:OPAQUE
END:VEVENT
END:VCALENDAR