BEGIN:VCALENDAR
VERSION:2.0
PRODID:-//jEvents 2.0 for Joomla//EN
CALSCALE:GREGORIAN
METHOD:PUBLISH
BEGIN:VEVENT
UID:856a5d4d1b0d076c2aae652024bb9ca4
CATEGORIES:Default Category
SUMMARY:Chess Tournament
DESCRIPTION;ENCODING=QUOTED-PRINTABLE:
DTSTAMP:20260419T155931Z
DTSTART:20260110T123000Z
DTEND:20260110T143000Z
SEQUENCE:0
RRULE:FREQ=MONTHLY;UNTIL=20260628T000000Z;INTERVAL=1;BYDAY=+2SA,+4SA
TRANSP:OPAQUE
END:VEVENT
END:VCALENDAR