BEGIN:VCALENDAR
VERSION:2.0
PRODID:-//jEvents 2.0 for Joomla//EN
CALSCALE:GREGORIAN
METHOD:PUBLISH
BEGIN:VEVENT
UID:e791a0ba0c91a5bd335ba7135bf20847
CATEGORIES:Youth
SUMMARY:Youth Outing
DESCRIPTION;ENCODING=QUOTED-PRINTABLE:
DTSTAMP:20260419T155648Z
DTSTART;VALUE=DATE:20260314
DTEND;VALUE=DATE:20260315
SEQUENCE:0
TRANSP:OPAQUE
END:VEVENT
END:VCALENDAR