BEGIN:VCALENDAR
VERSION:2.0
PRODID:-//jEvents 2.0 for Joomla//EN
CALSCALE:GREGORIAN
METHOD:PUBLISH
BEGIN:VEVENT
UID:c59c53be94c6e3e28c7ffae5e1a4222e
CATEGORIES:Default Category
SUMMARY:Choir Rehearsal
DESCRIPTION;ENCODING=QUOTED-PRINTABLE:
DTSTAMP:20260419T155925Z
DTSTART:20260305T190000Z
SEQUENCE:0
TRANSP:OPAQUE
END:VEVENT
END:VCALENDAR