BEGIN:VCALENDAR
VERSION:2.0
PRODID:-//jEvents 2.0 for Joomla//EN
CALSCALE:GREGORIAN
METHOD:PUBLISH
BEGIN:VEVENT
UID:71115a03eedcced83a84f271349798be
CATEGORIES:Special Event
SUMMARY:Hymns for Him
DESCRIPTION;ENCODING=QUOTED-PRINTABLE:
DTSTAMP:20260421T202406Z
DTSTART:20260329T040000Z
DTEND:20260329T180000Z
SEQUENCE:0
TRANSP:OPAQUE
END:VEVENT
END:VCALENDAR