BEGIN:VCALENDAR
VERSION:2.0
PRODID:-//jEvents 2.0 for Joomla//EN
CALSCALE:GREGORIAN
METHOD:PUBLISH
BEGIN:VEVENT
UID:9197835bc09671b30d4fafcd23638914
CATEGORIES:Default Category
SUMMARY:Sunday Evening Worship Service
DESCRIPTION;ENCODING=QUOTED-PRINTABLE:
DTSTAMP:20260421T131441Z
DTSTART:20201129T170000Z
SEQUENCE:0
TRANSP:OPAQUE
END:VEVENT
END:VCALENDAR