BEGIN:VCALENDAR
VERSION:2.0
PRODID:-//jEvents 2.0 for Joomla//EN
CALSCALE:GREGORIAN
METHOD:PUBLISH
BEGIN:VEVENT
UID:848de7b114b59eb539312f9a06221aec
CATEGORIES:Married Couples
SUMMARY:Marriage Enrichment 
DESCRIPTION;ENCODING=QUOTED-PRINTABLE:
DTSTAMP:20260422T194416Z
DTSTART:20200215T180000Z
DTEND:20200215T200000Z
SEQUENCE:0
TRANSP:OPAQUE
END:VEVENT
END:VCALENDAR