BEGIN:VCALENDAR
VERSION:2.0
PRODID:-//jEvents 2.0 for Joomla//EN
CALSCALE:GREGORIAN
METHOD:PUBLISH
BEGIN:VEVENT
UID:6b292a9391b35d8de3299ef1815697fb
CATEGORIES:Default Category
SUMMARY:Missions Food Distribution
DESCRIPTION;ENCODING=QUOTED-PRINTABLE:
DTSTAMP:20260422T194445Z
DTSTART;VALUE=DATE:20200221
DTEND;VALUE=DATE:20200222
SEQUENCE:0
TRANSP:OPAQUE
END:VEVENT
END:VCALENDAR