BEGIN:VCALENDAR
VERSION:2.0
PRODID:-//jEvents 2.0 for Joomla//EN
CALSCALE:GREGORIAN
METHOD:PUBLISH
BEGIN:VEVENT
UID:4e252c97a55b01d39e00737b6cb77e15
CATEGORIES:Default Category
SUMMARY:Comfort & Support Ministry
DESCRIPTION;ENCODING=QUOTED-PRINTABLE:
DTSTAMP:20260419T213954Z
DTSTART:20191109T120000Z
DTEND:20191109T140000Z
SEQUENCE:0
TRANSP:OPAQUE
END:VEVENT
END:VCALENDAR