BEGIN:VCALENDAR
VERSION:2.0
PRODID:-//jEvents 2.0 for Joomla//EN
CALSCALE:GREGORIAN
METHOD:PUBLISH
BEGIN:VEVENT
UID:54f93996f4142e564eeee20fa7bf9137
CATEGORIES:Default Category
SUMMARY:Mothers & Deacons Prayer Service
DESCRIPTION;ENCODING=QUOTED-PRINTABLE:
DTSTAMP:20260419T134400Z
DTSTART:20191023T190000Z
DTEND:20191025T200000Z
SEQUENCE:0
TRANSP:OPAQUE
END:VEVENT
END:VCALENDAR