BEGIN:VCALENDAR
VERSION:2.0
PRODID:-//jEvents 2.0 for Joomla//EN
CALSCALE:GREGORIAN
METHOD:PUBLISH
BEGIN:VEVENT
UID:572cec461d5f66d346e237679a979210
CATEGORIES:Default Category
SUMMARY:Sunday Morning Worship Service
DESCRIPTION;ENCODING=QUOTED-PRINTABLE:
DTSTAMP:20260422T130306Z
DTSTART:20190714T104500Z
SEQUENCE:0
TRANSP:OPAQUE
END:VEVENT
END:VCALENDAR