BEGIN:VCALENDAR
VERSION:2.0
PRODID:-//jEvents 2.0 for Joomla//EN
CALSCALE:GREGORIAN
METHOD:PUBLISH
BEGIN:VEVENT
UID:328c125504717fe51fd0564002112e40
CATEGORIES:Men
SUMMARY:Men's Fellowship Retreat
DESCRIPTION;ENCODING=QUOTED-PRINTABLE:
DTSTAMP:20260419T160518Z
DTSTART;VALUE=DATE:20190516
DTEND;VALUE=DATE:20190520
SEQUENCE:0
TRANSP:OPAQUE
END:VEVENT
END:VCALENDAR