BEGIN:VCALENDAR
VERSION:2.0
PRODID:-//jEvents 2.0 for Joomla//EN
CALSCALE:GREGORIAN
METHOD:PUBLISH
BEGIN:VEVENT
UID:6eb99f27c32ca2b5199bc62bf9146449
CATEGORIES:Women
SUMMARY:VOH Purity Ceremony
DESCRIPTION;ENCODING=QUOTED-PRINTABLE:
DTSTAMP:20260419T154312Z
DTSTART:20190420T083000Z
DTEND:20190420T113000Z
SEQUENCE:0
TRANSP:OPAQUE
END:VEVENT
END:VCALENDAR