BEGIN:VCALENDAR
VERSION:2.0
PRODID:-//jEvents 2.0 for Joomla//EN
CALSCALE:GREGORIAN
METHOD:PUBLISH
BEGIN:VEVENT
UID:6d86e154af2408988a07407e649a9434
CATEGORIES:Seniors
SUMMARY:YAH Thanksgiving Dinner
DESCRIPTION;ENCODING=QUOTED-PRINTABLE:
DTSTAMP:20260420T030752Z
DTSTART:20191121T130000Z
DTEND:20191121T150000Z
SEQUENCE:0
TRANSP:OPAQUE
END:VEVENT
END:VCALENDAR