BEGIN:VCALENDAR
VERSION:2.0
PRODID:-//jEvents 2.0 for Joomla//EN
CALSCALE:GREGORIAN
METHOD:PUBLISH
BEGIN:VEVENT
UID:cbeb57b60270eb188189db6070d4bb14
CATEGORIES:Default Category
SUMMARY:Cultural Arts Luncheon
DESCRIPTION;ENCODING=QUOTED-PRINTABLE:
DTSTAMP:20260425T020942Z
DTSTART:20190223T110000Z
DTEND:20190223T130000Z
SEQUENCE:0
TRANSP:OPAQUE
END:VEVENT
END:VCALENDAR