BEGIN:VCALENDAR
VERSION:2.0
PRODID:-//jEvents 2.0 for Joomla//EN
CALSCALE:GREGORIAN
METHOD:PUBLISH
BEGIN:VEVENT
UID:7f55b3b85691bd3d1a4c26fa8ce2c242
CATEGORIES:Default Category
SUMMARY:Evening Prayer
DESCRIPTION;ENCODING=QUOTED-PRINTABLE:
DTSTAMP:20260425T021600Z
DTSTART:20190228T170000Z
DTEND:20190228T183000Z
SEQUENCE:0
TRANSP:OPAQUE
END:VEVENT
END:VCALENDAR