BEGIN:VCALENDAR
VERSION:2.0
PRODID:-//jEvents 2.0 for Joomla//EN
CALSCALE:GREGORIAN
METHOD:PUBLISH
BEGIN:VEVENT
UID:d5e23c062233b7fc28c92e85b6b4ecd9
CATEGORIES:Children
SUMMARY:Harvest Festival
DESCRIPTION;ENCODING=QUOTED-PRINTABLE:
DTSTAMP:20260419T163215Z
DTSTART:20181027T080000Z
SEQUENCE:0
TRANSP:OPAQUE
END:VEVENT
END:VCALENDAR