BEGIN:VCALENDAR
VERSION:2.0
PRODID:-//jEvents 2.0 for Joomla//EN
CALSCALE:GREGORIAN
METHOD:PUBLISH
BEGIN:VEVENT
UID:dd082af5abf5c01c11beeb439dfb8b4b
CATEGORIES:Prayer
SUMMARY:Prayer Chain Workshop
DESCRIPTION;ENCODING=QUOTED-PRINTABLE:
DTSTAMP:20260423T211220Z
DTSTART:20181006T130000Z
DTEND:20181006T160000Z
SEQUENCE:0
TRANSP:OPAQUE
END:VEVENT
END:VCALENDAR