BEGIN:VCALENDAR
VERSION:2.0
PRODID:-//jEvents 2.0 for Joomla//EN
CALSCALE:GREGORIAN
METHOD:PUBLISH
BEGIN:VEVENT
UID:149032a4eb332d647305c3ba9a4dcceb
CATEGORIES:Default Category
SUMMARY:CINEMA 7
DESCRIPTION;ENCODING=QUOTED-PRINTABLE:
DTSTAMP:20260419T124614Z
DTSTART:20250315T160000Z
DTEND:20250315T190000Z
SEQUENCE:0
TRANSP:OPAQUE
END:VEVENT
END:VCALENDAR